BEGIN:VCALENDAR
VERSION:2.0
PRODID:-//Shaktya e.V. - ECPv6.13.2.1//NONSGML v1.0//EN
CALSCALE:GREGORIAN
METHOD:PUBLISH
X-WR-CALNAME:Shaktya e.V.
X-ORIGINAL-URL:https://shaktya.com
X-WR-CALDESC:Events for Shaktya e.V.
REFRESH-INTERVAL;VALUE=DURATION:PT1H
X-Robots-Tag:noindex
X-PUBLISHED-TTL:PT1H
BEGIN:VTIMEZONE
TZID:UTC
BEGIN:STANDARD
TZOFFSETFROM:+0000
TZOFFSETTO:+0000
TZNAME:UTC
DTSTART:20240101T000000
END:STANDARD
END:VTIMEZONE
BEGIN:VEVENT
DTSTART;TZID=UTC:20250615T160000
DTEND;TZID=UTC:20250615T180000
DTSTAMP:20260424T161719
CREATED:20250511T171143Z
LAST-MODIFIED:20251016T225434Z
UID:1564-1750003200-1750010400@shaktya.com
SUMMARY:Open Air Sommer Yoga- 2025
DESCRIPTION:4. Open Air Sommer Yoga- 2025\n4. Open Air Sommer Yoga- Bremen\n🧘‍♀️ Sei dabei – 4. Open Air Sommer Yoga! ☀️ \n🗓 Sonntag\, 15. Juni 2025⏰ 16:00 – 18:00 Uhr📍 Stadtgarten VegesackFeiere mit uns den Internationalen Tag des Yoga unter freiem Himmel! \nDr. Rajesh Mishra\, Gründer und Präsident der Dr. Mishra Academy Bremen\, wird gemeinsam mit weiteren Yoga-Expertinnen und -Experten unterrichten. \nIn Zusammenarbeit mit dem Generalkonsulat von Indien\, HamburgUnterstützt von EDEKA Damerow und der Dr. Mishra Academy Bremen \n✨ EINTRITT FREI (Anmeldung erforderlich) \n🖊 Jetzt anmelden:🌐 www.shaktya.com📧 info@shaktya.com📱 WhatsApp: 0178 9602876 \nLasst uns gemeinsam einen Nachmittag voller Harmonie\, Wohlbefinden und Gemeinschaft erleben. Wir freuen uns auf euch! 🧘‍♂️🌿
URL:https://shaktya.com/event/open-air-sommer-yoga-2025/
LOCATION:stadtgarten Vegesack
ATTACH;FMTTYPE=image/jpeg:https://shaktya.com/wp-content/uploads/2025/05/A-3-Open-air-sommer-Yoga-4.jpg
END:VEVENT
BEGIN:VEVENT
DTSTART;TZID=UTC:20250614T180000
DTEND;TZID=UTC:20250614T210000
DTSTAMP:20260424T161719
CREATED:20250511T170232Z
LAST-MODIFIED:20250511T170232Z
UID:1560-1749924000-1749934800@shaktya.com
SUMMARY:9th India International Fest- 2025
DESCRIPTION:9th India International Fest – 2025\n9th India International Fest – 2025\nCelebrating the 2nd India Days Bremen\nJoin us for a vibrant celebration of Indian culture\, diversity\, and community at the 9th India International Fest – 2025\, proudly organized by Shaktya e.V. and the Indian Community Bremen\, in association with the Consulate General of India\, Hamburg\, and other local partner organizations. \n🗓 Date: 14th June 2025\, 18:00 – 21:00h📍 Location: Bremen\, Germany \nThis year’s festival is part of the 2nd India Days Bremen\, an exciting cultural initiative that brings together people from all walks of life to experience the rich heritage and contemporary spirit of India. \nWhat to Expect:✨ Colorful cultural performances — classical and folk dances\, music\, and theatre🍛 Authentic Indian cuisine and food stalls🛍 Handicrafts\, art\, and traditional clothing stalls🎨 Workshops\, yoga sessions\, and cultural exhibitions🤝 Networking opportunities with the local Indian and German communities \nWhether you’re a long-time admirer of Indian traditions or just curious to explore something new\, there’s something for everyone — families\, students\, and culture enthusiasts alike! \nEntry: Free | Open to all | Family-friendly \nCome and celebrate the colors\, flavors\, and rhythms of India — right here in Bremen! \nContact: 0178 960 2876\,  info@shaktya.com www.shaktya.com
URL:https://shaktya.com/event/9th-india-international-fest-2025/
LOCATION:BUS- Huchting\, Bremem\, Amersfoorter Str. 8\, Bremen\, Bremen\, 28259\, Germany
ATTACH;FMTTYPE=image/jpeg:https://shaktya.com/wp-content/uploads/2025/05/9th-India-international-Fest-1.jpg
ORGANIZER;CN="Shaktya e.V%3A":MAILTO:info@shaktya.com
END:VEVENT
BEGIN:VEVENT
DTSTART;TZID=UTC:20250613T093000
DTEND;TZID=UTC:20250615T180000
DTSTAMP:20260424T161719
CREATED:20250511T164016Z
LAST-MODIFIED:20250511T164016Z
UID:1553-1749807000-1750010400@shaktya.com
SUMMARY:2nd India Days Bremen- 2025
DESCRIPTION:India Days Bremen 2025 – Event Overview\nDates: 13th – 15th June 2025 | Location: Bremen\, Germany\nOrganised by: Shaktya e.V.\nIn collaboration with: Consulate General of India – Hamburg\nSupported by: Senator für Wirtschaft\, Häfen und Transformation\, Bremen \nIndia Days Bremen 2025 returns for its second edition\, celebrating the rich tapestry of Indo-German relations through culture\, business\, education\, and diplomacy. Building on the success of the inaugural event\, this five-day festival offers a vibrant platform for dialogue\, collaboration\, and community engagement between India and Germany. \nJoin us in Bremen from 13th to 15th June 2025 for a series of dynamic events designed to deepen cultural exchange\, foster economic partnerships\, and highlight India’s diversity and heritage. \nKey Highlights\nInauguration & Reception\n📅 Friday\, 13th June | 🕡 18:30 – 20:30 | 📍 Rathaus Bremen\nAn elegant opening ceremony bringing together dignitaries\, business leaders\, and cultural ambassadors to celebrate Indo-German relations and facilitate high-level networking. \n6th German-Indian Business Summit (GIBS)\n📅 Friday\, 13th June | 📍 Die Sparkasse Bremen\nA premier business forum connecting Indian and German stakeholders to explore partnerships in trade\, technology\, innovation\, and sustainable development. \n9th India International Fest – 2025\n📅 Saturday\, 14th June | 🕔 17:00 – 21:00 | 📍 BUS HuchtingBremen\nA vibrant public celebration of Indian culture featuring live performances\, authentic cuisine\, arts\, crafts\, and music — a perfect blend of tradition and festivity. \nConsular Camp\n📅 Saturday\, 14th June | 🕕 18:00 – 20:00 | 📍 BUS HuchtingBremen\nEssential consular services such as passport renewals\, OCI applications\, and document attestation offered to the Indian community in and around Bremen. \nDiversity & Sustainability Talk\n📅 Wednesday\, 11th June | 🕕 18:00 – 19:00 | 📍 Vision Kultur\, Bremen\nA thought-provoking dialogue exploring how tradition and modernity intersect through the lens of sustainability and cultural diversity. \n4th Open Air Sommer Yoga\n📅 Sunday\, 15th June | 📍 Stadtgarten Vegesack\nAn invigorating outdoor yoga session led by expert instructors\, promoting wellness\, mindfulness\, and holistic living in the heart of nature. \nJoin us and be a part of this unique celebration that bridges nations and cultures.\n🌐 For more information\, contact us at: 0178 960 2876 / info@shaktya.com\n 
URL:https://shaktya.com/event/2nd-india-days-bremen-2025/
ATTACH;FMTTYPE=image/jpeg:https://shaktya.com/wp-content/uploads/2025/05/GIBS-2025-3.jpg
ORGANIZER;CN="Shaktya e.V%3A":MAILTO:info@shaktya.com
END:VEVENT
BEGIN:VEVENT
DTSTART;TZID=UTC:20250613T093000
DTEND;TZID=UTC:20250613T130000
DTSTAMP:20260424T161719
CREATED:20250511T165304Z
LAST-MODIFIED:20250511T165304Z
UID:1556-1749807000-1749819600@shaktya.com
SUMMARY:6th German- Indian Business Summit: GIBS- 2025
DESCRIPTION:6th German Indian Business Summit- 2025\nWelcome to the 6th German Indian Business Summit- 2025! \n6th German Indian Business Summit- 2025!\nJoin us at Die Sparkasse Bremen – Firmenkunden for a day filled with networking\, insightful discussions\, and collaboration opportunities between German and Indian businesses. This in-person event promises to bring together industry leaders\, entrepreneurs\, and innovators to explore new avenues of growth and partnerships. \nDon’t miss this chance to connect with like-minded professionals\, gain valuable insights\, and expand your business horizons. Mark your calendars for this exciting summit! \n\n\n\n\nSAVE THE DATE\nGerman Indian Business Summit 2025 \nWe are pleased to invite you to the 6th German Indian Business Summit 2025\, organized in association with the Consulate General of India – Hamburg and the Ministry for Economic Affairs\, Ports and Transformation – Free Hanseatic City of Bremen. \nEvent Details:\nVenue: Die Sparkasse Bremen\, Universitätsallee 14\, Bremen\nDate: 13th June 2025\nTime: 09:30 – 13:00 h \nIndia has emerged as the fastest-growing major economy in the world. The World Bank projects that India will surpass Japan and Germany to become the world’s third-largest economy by 2030. Recognizing this dynamic growth\, the European Union\, particularly Germany\, is intensifying its economic collaboration with India. In 2022\, the EU and India marked 60 years of bilateral relations\, and in October 2024\, the German government introduced its strategic paper ‘Fokus auf Indien’. The joint declaration during the 7th IGC (Inter Governmental Consultations) at New Delhi in October 2024 between PM Modi and Chancellor Scholz highlighted the renewed momentum in bilateral engagement across government\, industry\, civil society and academia that has played an instrumental role in advancing and deepening the strategic partnership between India and Germany. \nThe German Indian Business Summit (GIBS) serves as a platform to foster stronger business relations between Germany and India. \nDistinguished Guests of Honour: \n· Ms. S0umya Gupta – Consul General\, Consulate General of India – Hamburg \n· Maike Frese – State Secretary for Economic Affairs\, Bremen (Staatsrätin für Wirtschaft) \nProminent Speakers Include: \n· Dr. Katharina Berner – German Federal Ministry for Economic Affairs and Climate Action (Bundesministerium für Wirtschaft und Klimaschutz) \n· Prof. Dr. Dr. h.c. Alexis Papathanassis – Hochschule Bremerhaven \n· Prof. Dr. Asim Kinra – Bremen University \n· Capt. Arun Shankar – Director Business Development\, Columbia Group \n· Christian Norden\, Balance Technology Consulting GmbH \n· And many more esteemed experts and industry leaders. \nSupported by: \n· Die Sparkasse Bremen \n· Hochschule Bremen \n· IHK Bremen & Bremerhaven \n· CII – Confederation of Indian Industry \n· IEF \n· IBF – Hamburg \n· Shaktya e.V. \nFollowing the summit\, we cordially invite you to the Senate Reception (Senatsempfang) at Bremen City Hall at 18:00 h. (Only Through Invitation) \nWe look forward to welcoming you to this significant event! \nBest Regards:\nTEAM – German- Indian Business Summit:GIBS \nDr. Shazia Wülbers: 0175 4185 456\ncontact@the-gibs.org \nGIBS 2025: THEME FOR BUSINESS SUMMIT PANEL DISCUSSION \nTheme: \nCollaborative Strategies for Strengthening Maritime Trade: Expanding Partnerships between Indian and German Businesses \nThis discussion will focus on innovative partnership models aimed at enhancing maritime trade between India and Germany\, including market integration\, workforce development and skilling\, promotion of green technologies\, artificial intelligence\, and aviation technologies into the maritime sector. \nSub-Themes: \n1. Labour and Market Integration \nInvestigating effective labour policies and market integration strategies that can facilitate smoother trade\, improve operational efficiencies\, and ensure fair labour practices in the maritime industry. An example is the Indo-German Maritime Labour Agreement\, which sets out standards for working conditions and dispute resolution mechanisms. Another example is the Indo-German Trade Facilitation Agreement\, which has simplified customs processes\, making it easier for goods to move between the two countries. \n2. Skilling and Workforce Development \nEmphasizing the vital role of skilling and workforce development in the adoption and implementation of maritime trade. This includes providing targeted training programs that equip workers with the necessary skills to operate and maintain new\, sustainable maritime technologies. . For example\, the German Maritime Centre in collaboration with Indian maritime institutions offers specialized courses in ship management\, navigation\, and environmental protection. Nancy Faeser\, the German Interior Minister\, said. “We have increased skilled immigration by 77 per cent since 2021. Today\, (April 2025) we are a country that invests more in integration and is more attractive to talented and qualified workers and skilled workers from all over the world. Germany is a country of immigration – and must remain so. This is crucial for the future viability of Germany as a business location\,” \n3. Artificial Intelligence (AI) \nDiscussing the application of AI in optimizing maritime operations\, enhancing decision-making processes\, and improving logistics and supply chain management. AI systems can predict and mitigate potential disruptions\, ensuring smoother and more efficient maritime trade. AI can also play a crucial role in monitoring environmental impacts\, thus supporting green initiatives. \n4. Promoting Sustainable Logistics through Green Technologies \nSustainability is at the forefront of maritime logistics innovations. Germany and India under the Green and Sustainable Development Partnership (GSDP) are promoting joint ventures to develop and implement green and sustainable technologies. These include eco-friendly ship designs\, alternative fuels\, and energy-efficient port operations. Such initiatives are aimed at reducing the environmental impact of maritime trade while maintaining operational efficiency. \n5. Maritime Aviation & UxVs \nResearch and development in unmanned and autonomous maritime vehicles\, both aerial and sub-surface\, are advancing. These technologies promise to modernize maritime operations by providing more flexible\, efficient\, and safer methods of transport and surveillance. \n6th German Indian Business Summit- 2025!
URL:https://shaktya.com/event/6th-german-indian-business-summit-gibs-2025/
LOCATION:Die Sparkasse Bremen\, Universitätealle 14\, Bremen\, 28359\, Germany
ATTACH;FMTTYPE=image/jpeg:https://shaktya.com/wp-content/uploads/2025/05/GIBS-2025-4.jpg
ORGANIZER;CN="German Indian Business Summit-GIBS":MAILTO:info@shaktya.com
END:VEVENT
BEGIN:VEVENT
DTSTART;TZID=UTC:20241106T190000
DTEND;TZID=UTC:20241107T080000
DTSTAMP:20260424T161719
CREATED:20241020T211106Z
LAST-MODIFIED:20241020T211106Z
UID:1549-1730919600-1730966400@shaktya.com
SUMMARY:Chhath Mahaparv Bremen\, Germany
DESCRIPTION: Chhath Mahaparv 2024 \nOrganized by: Shaktya e.V.- Indian Community Bremen in collaboration with International Maithil Diaspora\n Event Schedule: \nChhath Mahaparv Bremen\, GermanyDr Mishra Academy\, Reeder Bischoff Straße 44\, 28757 Bremen\n\nTue\, 05 November 2024: Nahay KhayWed\, 06 November 2024: Kharna – 19:00h Venue: Halmstraße 35\, 28717 BremenThu\, 07 November 2024: Sandhya Arghya – 16:41h Venue: Dr Mishra Academy\, Reeder- Bischoff Straße\, 44\, 28757 BremenFri\, 08 November 2024: Usha Arghya – 07:36h Venue: Dr Mishra Academy\, Reeder- Bischoff Straße\, 44\, 28757 BremenCome celebrate Chhath Mahaparv\, a sacred festival dedicated to the worship of the Sun God. Let’s unite as a community for this beautiful cultural event filled with devotion and gratitude. \n Contact us: 0178 960 2876 Email: Info@shaktya.com Visit: www.shaktya.com
URL:https://shaktya.com/event/chhath-mahaparv-bremen-germany/
LOCATION:Dr Mishra Academy\, Reeder Bischoff Straße 44\,\, Bremen\, Bremen\, 28757\, Germany
ATTACH;FMTTYPE=image/jpeg:https://shaktya.com/wp-content/uploads/2024/10/Chhath-Puja-Bremen-1.jpg
ORGANIZER;CN="Shaktya e.V%3A":MAILTO:info@shaktya.com
END:VEVENT
BEGIN:VEVENT
DTSTART;TZID=UTC:20241026T070000
DTEND;TZID=UTC:20241026T120000
DTSTAMP:20260424T161719
CREATED:20241020T210446Z
LAST-MODIFIED:20241020T210457Z
UID:1546-1729926000-1729944000@shaktya.com
SUMMARY:Bremer Freimarktumzug- 2024
DESCRIPTION:🌟 Join Shaktya e.V. – Indian Community Bremen at Bremer Freimarktumzug! 🌟 \n📅 Date: Saturday\, 26th October 2024\n⏰ Time: From 7:30 AM onwards\n🎉 Theme: Holi Fest – Festival of Oneness and Equality \nShaktya e.V. – Indian Community Bremen at Bremer Freimarktumzug! 🌟\n🎭 Activity: Dance and play Holi throughout the parade! \nShaktya e.V.\, the Indian Community Bremen group\, will be participating in the Bremer Freimarktumzug\, and we invite all community members to come and support us in this vibrant celebration! \n✨ How to Join: Registration is required to join the group during the parade.\n📧 Email: info@shaktya.com\n📞 WhatsApp/Call: 0178 960 2876 \nLet’s come together to spread joy\, unity\, and colors! 🌈 Don’t miss out on this exciting event!
URL:https://shaktya.com/event/bremer-freimarktumzug-2024/
ATTACH;FMTTYPE=image/jpeg:https://shaktya.com/wp-content/uploads/2024/10/Orange-and-Purple-Cute-Playful-Halloween-Parade-Poster-Instagram-Post.jpg
END:VEVENT
BEGIN:VEVENT
DTSTART;TZID=UTC:20240915T150000
DTEND;TZID=UTC:20240915T180000
DTSTAMP:20260424T161719
CREATED:20241020T205844Z
LAST-MODIFIED:20251016T230602Z
UID:1543-1726412400-1726423200@shaktya.com
SUMMARY:7th Ganesh Fest Bremen- 2024
DESCRIPTION:7th Ganesh Fest BremenEntry Free\nVenue: Dr. Mishra Academy\, Reeder- Bischoff Straße 44\, 28717 BremenContact for details:0178 960 2876www.shaktya.com\n\n\n\n7th Ganesh Fest Bremen
URL:https://shaktya.com/event/7th-ganesh-fest-bremen-2024/
LOCATION:Dr Mishra Academy\, Reeder Bischoff Straße 44\,\, Bremen\, Bremen\, 28757\, Germany
ATTACH;FMTTYPE=image/jpeg:https://shaktya.com/wp-content/uploads/2024/10/Maroon-Gold-Floral-Ganesh-Chaturthi-Invitation-1.jpg
ORGANIZER;CN="Shaktya e.V%3A":MAILTO:info@shaktya.com
END:VEVENT
BEGIN:VEVENT
DTSTART;TZID=UTC:20240824T150000
DTEND;TZID=UTC:20240824T170000
DTSTAMP:20260424T161719
CREATED:20241020T205310Z
LAST-MODIFIED:20241020T205321Z
UID:1540-1724511600-1724518800@shaktya.com
SUMMARY:Celebration of India Independence Day in Bremen
DESCRIPTION:Join Us for the Celebration of India Independence Day in Bremen!\n\nShaktya e.V. – Indian Community Bremen invite you to celebrate India Independence Day with us.\nDate: Saturday\, 24th August 2024Time: 15:00 – 17:00 hoursVenue: Theater Hall\, University of Bremen\nEnjoy an afternoon filled with cultural performances\, music\, and festivities.\nThe highlight of the event:\nA captivating dance performance by the Tanz Kathak Academy led by Tejaswini from India\, and much more!\nContact:Email: info@shaktya.comWebsite: www.shaktya.com
URL:https://shaktya.com/event/celebration-of-india-independence-day-in-bremen/
ATTACH;FMTTYPE=image/jpeg:https://shaktya.com/wp-content/uploads/2024/10/453479475_912941630877339_4598922510044988193_n.jpg
ORGANIZER;CN="Shaktya e.V%3A":MAILTO:info@shaktya.com
END:VEVENT
BEGIN:VEVENT
DTSTART;TZID=UTC:20240817T150000
DTEND;TZID=UTC:20240817T180000
DTSTAMP:20260424T161719
CREATED:20241020T204057Z
LAST-MODIFIED:20251016T225829Z
UID:1532-1723906800-1723917600@shaktya.com
SUMMARY:Yoga Fest Stadtgarten Vegesack mit Dr Rajesh Mishra
DESCRIPTION:Yoga Fest Stadtgarten Vegesack mit Dr. Rajesh Mishra!  Datum: 17. August 2024 \nYoga Fest Stadtgarten Vegesack mit Dr. Rajesh Mishra! 🌿\n Zeit: 16:00 – 18:00 Ort: Vegesacker Stadtgarten (auf der Wiese neben dem Rosengarten) Kostenloses Event! Erleben Sie die Schönheit der Natur und finden Sie Ihren inneren Frieden beim Yoga Fest Vegesack\, veranstaltet von Shaktya e.V. Diese einzigartige Veranstaltung bringt die Menschen in Bremen zusammen\, um Hatha Yoga\, Pranayama und Meditation in der ruhigen Umgebung des Stadtgartens\, direkt an der Weser\, zu praktizieren. Alle Level willkommen Erleben Sie die Vorteile von Yoga in der Natur Fördern Sie Gesundheit\, Wohlbefinden und GemeinschaftsgeistWir freuen uns\, bekannt zu geben\, dass Dr. Rajesh Mishra von der Dr. Mishra Academy Bremen Yoga und Meditation unterrichten wird. Verpassen Sie nicht die Gelegenheit\, von einem Experten zu lernen und Ihre Praxis zu vertiefen.Nutzen Sie diese Gelegenheit\, um sich selbst und andere in der Gemeinschaft zu verbinden! Egal ob erfahrener Yogi oder kompletter Anfänger\, kommen Sie und erleben Sie die transformative Kraft des Yoga in einer wunderschönen\, natürlichen Umgebung.
URL:https://shaktya.com/event/yoga-fest-stadtgarten-vegesack-mit-dr-rajesh-mishra/
LOCATION:stadtgarten Vegesack
ATTACH;FMTTYPE=image/jpeg:https://shaktya.com/wp-content/uploads/2024/10/453256929_912948100876692_7445312825073145702_n.jpg
ORGANIZER;CN="Shaktya e.V%3A":MAILTO:info@shaktya.com
END:VEVENT
BEGIN:VEVENT
DTSTART;TZID=UTC:20240811T140000
DTEND;TZID=UTC:20240811T170000
DTSTAMP:20260424T161719
CREATED:20241020T204648Z
LAST-MODIFIED:20241020T204657Z
UID:1536-1723384800-1723395600@shaktya.com
SUMMARY:Women´s Fest: Teeyan Da Mela-Bremen: 2024
DESCRIPTION:Women´s Fest: Teeyan Da Mela- BremenDate: 11th August 2024Entry Free:(Only For Ladies)
URL:https://shaktya.com/event/womens-fest-teeyan-da-mela-bremen-2024/
LOCATION:Bürger- und Sozialzentrum Huchting e.V.
ATTACH;FMTTYPE=image/jpeg:https://shaktya.com/wp-content/uploads/2024/10/452858717_909656941205808_4359084238513583064_n.jpg
ORGANIZER;CN="Shaktya e.V%3A":MAILTO:info@shaktya.com
END:VEVENT
BEGIN:VEVENT
DTSTART;TZID=UTC:20240706T150000
DTEND;TZID=UTC:20240706T220000
DTSTAMP:20260424T161719
CREATED:20241020T202325Z
LAST-MODIFIED:20241020T202439Z
UID:1525-1720278000-1720303200@shaktya.com
SUMMARY:Indian Food Festival- Bremen
DESCRIPTION:India Days Bremen\nInauguration on 6th June at Bollyfood BremenIndian Restaurant in Bremen\nBollyfood Vegetarisch: Auguststraße 80\, 28219 Bremen:Indian Express: Falkenstraße 14\, 28195 BremenRestaurant Shalimar: Martinistraße 62-69\, 28195 BremenVeggie House: Falkenstraße 44\, 28195 Bremen
URL:https://shaktya.com/event/indian-food-festival-bremen/
ATTACH;FMTTYPE=image/jpeg:https://shaktya.com/wp-content/uploads/2024/06/india-days-bremen-scaled.jpg
ORGANIZER;CN="Shaktya e.V%3A":MAILTO:info@shaktya.com
END:VEVENT
BEGIN:VEVENT
DTSTART;TZID=UTC:20240615T160000
DTEND;TZID=UTC:20240615T180000
DTSTAMP:20260424T161719
CREATED:20240603T190625Z
LAST-MODIFIED:20240603T190625Z
UID:1503-1718467200-1718474400@shaktya.com
SUMMARY:Yoga Fest Grömitz - 2024
DESCRIPTION:Yoga Fest Grömitz – 2024\nYoga Fest Grömitz- 2024\nDate: 15th June 2024 \nEntry Free \n 
URL:https://shaktya.com/event/yoga-fest-gromitz-2024/
LOCATION:Grömitz\, Wiese Uferstraße\, Grömitz\, Schleswig-Holstein\, 23743\, Germany
ORGANIZER;CN="Shaktya e.V%3A":MAILTO:info@shaktya.com
END:VEVENT
BEGIN:VEVENT
DTSTART;TZID=UTC:20240609T150000
DTEND;TZID=UTC:20240609T190000
DTSTAMP:20260424T161719
CREATED:20240603T164345Z
LAST-MODIFIED:20240603T165216Z
UID:1481-1717945200-1717959600@shaktya.com
SUMMARY:Open Air Sommer Yoga- 2024
DESCRIPTION:Open Air Sommer Yoga- 2024\nOpen Air Sommer Yoga- 2024\nRegistration Link: \nhttps://forms.gle/DrPYzEL8eLPaBGAP9 \nEntry Free: GET 1000 T-Shirt Free
URL:https://shaktya.com/event/open-air-sommer-yoga-2024/
LOCATION:Stadion Am Panzenberg\, Landwehr straße 4\, Bremen\, Bremen\, 28217\, Germany
END:VEVENT
BEGIN:VEVENT
DTSTART;TZID=UTC:20240609T100000
DTEND;TZID=UTC:20240609T130000
DTSTAMP:20260424T161719
CREATED:20240603T203426Z
LAST-MODIFIED:20240603T203437Z
UID:1514-1717927200-1717938000@shaktya.com
SUMMARY:Kathak Dance Workshop- Pandit Rajinder Gangani
DESCRIPTION:Kathak Dance Workshop- Pandit Rajendra Gangani\nKathak Dance Workshop\n 
URL:https://shaktya.com/event/kathak-dance-workshop-pandit-rajinder-gangani/
LOCATION:Dr Mishra Academy\, Reeder Bischoff Straße 44\,\, Bremen\, Bremen\, 28757\, Germany
END:VEVENT
BEGIN:VEVENT
DTSTART;TZID=UTC:20240608T150000
DTEND;TZID=UTC:20240608T190000
DTSTAMP:20260424T161719
CREATED:20240529T155355Z
LAST-MODIFIED:20240603T164950Z
UID:1475-1717858800-1717873200@shaktya.com
SUMMARY:8th India International Fest- 2024
DESCRIPTION:  \nIndia International Fest\n8th India International Fest- 2024\nDate: 8th June 2024\, 15:00 -19:00h \nMail: info@shaktya.com
URL:https://shaktya.com/event/8th-india-international-fest-2024/
LOCATION:Stadion Am Panzenberg\, Landwehr straße 4\, Bremen\, Bremen\, 28217\, Germany
END:VEVENT
BEGIN:VEVENT
DTSTART;TZID=UTC:20240608T143000
DTEND;TZID=UTC:20240608T173000
DTSTAMP:20260424T161719
CREATED:20240603T165814Z
LAST-MODIFIED:20240603T165822Z
UID:1490-1717857000-1717867800@shaktya.com
SUMMARY:Consular Camp - Consulate General of India: Hamburg
DESCRIPTION:Consular Camp – Consulate General of India: Hamburg\nDate: 8th June 2024: 14:30 – 17:30 h \nConsular Camp – Consulate General of India: Hamburg
URL:https://shaktya.com/event/consular-camp-consulate-general-of-india-hamburg/
LOCATION:Stadion Am Panzenberg\, Landwehr straße 4\, Bremen\, Bremen\, 28217\, Germany
END:VEVENT
BEGIN:VEVENT
DTSTART;TZID=UTC:20240608T140000
DTEND;TZID=UTC:20240608T190000
DTSTAMP:20260424T161719
CREATED:20241020T203120Z
LAST-MODIFIED:20241020T203319Z
UID:1528-1717855200-1717873200@shaktya.com
SUMMARY:India International Fest- 2024
DESCRIPTION:Details coming soon\n\nContact:01789602876Email: info@shaktya.com \nIndia International Fest
URL:https://shaktya.com/event/india-international-fest-2024/
LOCATION:Stadion Am Panzenberg\, Landwehr straße 4\, Bremen\, Bremen\, 28217\, Germany
ATTACH;FMTTYPE=image/jpeg:https://shaktya.com/wp-content/uploads/2024/10/425822961_800458095459027_3218024104953470906_n.jpg
ORGANIZER;CN="Shaktya e.V%3A":MAILTO:info@shaktya.com
END:VEVENT
BEGIN:VEVENT
DTSTART;TZID=UTC:20240607T093000
DTEND;TZID=UTC:20240607T130000
DTSTAMP:20260424T161719
CREATED:20240603T171606Z
LAST-MODIFIED:20240603T171606Z
UID:1498-1717752600-1717765200@shaktya.com
SUMMARY:5th German - Indian Business Summit- 2024
DESCRIPTION:5th German – Indian Business Summit- 2024\nGIBS\nGreetings- Namaskar\,\nOn behalf of the organizing committee\, it is with great pleasure that I extend to you an official invitation to the 5th German Indian Business Summit (GIBS) 2024. The event is scheduled for Friday\, 7th June 2024\, from 10:00 AM to 1:00 PM at Sparkasse Bremen\, Universitätallee 14\, Bremen.\nThis year’s summit will address the critical theme of “Impact of AI on Sustainable Technology and Digitalization.” We are privileged to have Staatsrätin Ms Maike Frese\, Die Senatorin für Wirtschaft\, Häfen und Transformation of the Free Hanseatic City of Bremen\, gracing us as the Chief Guest.\nFollowing the summit\, we will proceed with the inauguration of India Days Bremen\, marking another milestone in the cultural and business collaboration between Germany and India.\nMs. Soumya Gupta\, Consul General of the Consulate General of India in Hamburg\, will honor us with the welcome address\, marking the beginning of what promises to be a rich and constructive dialogue on sustainable development and technology.\nAttached to this email\, you will find the detailed program for the event and a registration link. We kindly ask that you confirm your participation by registering through the provided link at your earliest convenience.\nhttps://www.eventbrite.de/e/5th-german-indian-business-summit-gibs-tickets-900340481617?aff=oddtdtcreator\nWe are looking forward to your participation in what promises to be an enlightening and forward-looking series of discussions. Your insights and contributions to this dialogue will undoubtedly enrich our proceedings.
URL:https://shaktya.com/event/5th-german-indian-business-summit-2024/
LOCATION:Die Sparkasse Bremen\, Universitätealle 14\, Bremen\, 28359\, Germany
ORGANIZER;CN="INDIA DAYS BREMEN":MAILTO:info@shaktya.com
END:VEVENT
BEGIN:VEVENT
DTSTART;TZID=UTC:20240605T170000
DTEND;TZID=UTC:20240605T200000
DTSTAMP:20260424T161719
CREATED:20240603T170536Z
LAST-MODIFIED:20240603T170536Z
UID:1493-1717606800-1717617600@shaktya.com
SUMMARY:India Day Golf - Bremen
DESCRIPTION:India Day Golf – Bremen\nEntry Free: Registration Required \nIndia Day Golf – Bremen
URL:https://shaktya.com/event/india-day-golf-bremen/
LOCATION:Bremer Golf Club- Bremen\, Heinrich - Baden weg- 23\, Bremen\, Bremen\, 28355\, Germany
END:VEVENT
BEGIN:VEVENT
DTSTART;TZID=UTC:20240603T080000
DTEND;TZID=UTC:20240603T170000
DTSTAMP:20260424T161719
CREATED:20240603T192139Z
LAST-MODIFIED:20240603T195430Z
UID:1510-1717401600-1717434000@shaktya.com
SUMMARY:INDIA DAYS BREMEN
DESCRIPTION:India Days Bremen\nIndia Days Bremen\nIndia Days Bremen is a multifaceted cultural festival designed to celebrate\, promote\, and explore the rich tapestry of Indian culture\, arts\, and business relations in Germany. This event aims to bridge the cultural gap between India and Germany by showcasing the diversity and vibrancy of Indian traditions\, culinary arts\, and artistic expressions\, while also fostering economic and social collaborations between the two nations. \nObjectives:\nCultural Exchange: To provide a platform for Germans and other international audiences to experience the authentic culture of India. \nBusiness Networking: To strengthen Indo-German business relations through the German Indian Business Summit (GIBS)\, facilitating discussions on trade\, investment\, and innovation. \nCommunity Engagement: To engage the local Indian community in Germany by involving them in cultural representations and discussions\, enhancing their connection to their roots. \nEducational Opportunities: To educate attendees about India’s history\, arts\, and contemporary issues through workshops\, talks\, and interactive sessions. \n  \nKey Events:\nInauguration Ceremony: Featuring key dignitaries from both India and Germany\, including the Consul General of India in Hamburg and local German officials. \nGerman Indian Business Summit (GIBS): A forum for business leaders and entrepreneurs from both countries to discuss potential collaborations and innovations. \nCultural Festivals: \nIndian Food Festival: A showcase of India’s diverse cuisines from various regions. \nIndia International Fest: A celebration of Indian dance\, music\, and cinema. \nOpen Air Summer Yoga: Promoting health and wellness through traditional Indian yoga sessions. \nPerformative Arts: Performances of traditional Indian dances like Kathak and Bharatanatyam\, and music concerts featuring classical and contemporary Indian music.
URL:https://shaktya.com/event/india-days-bremen/
END:VEVENT
END:VCALENDAR